BEGIN:VCALENDAR
VERSION:2.0
PRODID:-//Tukios.com/
BEGIN:VEVENT
UID:993e7216-b343-41ca-976b-f7c6b829ac07@www.hamilfamilyfuneralhome.com
DTSTAMP:20260425T002129Z
DTSTART:20260430T223000Z
DTEND:20260501T003000Z
SUMMARY:Visitation
DESCRIPTION:
URL:https://www.hamilfamilyfuneralhome.com/obituaries/jacob-moore
LOCATION:The Hamil Family Funeral Home 6449 Buffalo Gap Road  Abilene TX 
	79606
GEO:32.3701563;-99.7761148
END:VEVENT
END:VCALENDAR